BEGIN:VCALENDAR
VERSION:2.0
PRODID:-//Town of Wilson - ECPv6.15.17.1//NONSGML v1.0//EN
CALSCALE:GREGORIAN
METHOD:PUBLISH
X-ORIGINAL-URL:https://wilson-lincoln-wi.gov
X-WR-CALDESC:Events for Town of Wilson
REFRESH-INTERVAL;VALUE=DURATION:PT1H
X-Robots-Tag:noindex
X-PUBLISHED-TTL:PT1H
BEGIN:VTIMEZONE
TZID:America/Chicago
BEGIN:DAYLIGHT
TZOFFSETFROM:-0600
TZOFFSETTO:-0500
TZNAME:CDT
DTSTART:20220313T080000
END:DAYLIGHT
BEGIN:STANDARD
TZOFFSETFROM:-0500
TZOFFSETTO:-0600
TZNAME:CST
DTSTART:20221106T070000
END:STANDARD
BEGIN:DAYLIGHT
TZOFFSETFROM:-0600
TZOFFSETTO:-0500
TZNAME:CDT
DTSTART:20230312T080000
END:DAYLIGHT
BEGIN:STANDARD
TZOFFSETFROM:-0500
TZOFFSETTO:-0600
TZNAME:CST
DTSTART:20231105T070000
END:STANDARD
BEGIN:DAYLIGHT
TZOFFSETFROM:-0600
TZOFFSETTO:-0500
TZNAME:CDT
DTSTART:20240310T080000
END:DAYLIGHT
BEGIN:STANDARD
TZOFFSETFROM:-0500
TZOFFSETTO:-0600
TZNAME:CST
DTSTART:20241103T070000
END:STANDARD
END:VTIMEZONE
BEGIN:VEVENT
DTSTART;TZID=America/Chicago:20230523T123000
DTEND;TZID=America/Chicago:20230523T143000
DTSTAMP:20260424T004511
CREATED:20230424T151612Z
LAST-MODIFIED:20230424T152944Z
UID:10000003-1684845000-1684852200@wilson-lincoln-wi.gov
SUMMARY:OPEN BOOK
DESCRIPTION:TOWN OF WILSON NOTICE FOR  \nOPEN BOOK AND BOARD OF REVIEW \n  \nTHE OPEN BOOK for the Town of Wilson\, will be held on Tuesday May 23\, 2023\, at the Town of Wilson Town Hall located at N10802 County Highway CC\, Tomahawk\, from 12:30 pm to 2:30 pm. \n  \nTHE BOARD OF REVIEW for the Town of Wilson\, will be held on Tuesday June 6\, 2023\, at the Town of Wilson Town Hall located at N10802 County Highway CC Tomahawk from 4:30 to 6:30 p.m. \n  \nPLEASE CONTACT THE TOWN CLERK If you wish to go before the Board of Review. \nLeave message if I’m not there when you call\, I will call you back as soon as I can. \n  \nTeresa Lepkowski\, Clerk \n715-453-7526 Home \n715-453-6090 (ext 1) Town Hall \nOffice Hours:  Tuesday Morning 8:00 am to 12:00 pm \nOr by appointment \nclerk@wilson-lincoln-wi.gov \n 
URL:https://wilson-lincoln-wi.gov/event/open-book-4/
CATEGORIES:Town Board
ATTACH;FMTTYPE=image/png:https://wilson-lincoln-wi.gov/wp-content/uploads/2023/04/openbook-board-of-review.png
END:VEVENT
END:VCALENDAR