BEGIN:VCALENDAR
VERSION:2.0
PRODID:-//Town of Wilson - ECPv6.15.17.1//NONSGML v1.0//EN
CALSCALE:GREGORIAN
METHOD:PUBLISH
X-WR-CALNAME:Town of Wilson
X-ORIGINAL-URL:https://wilson-lincoln-wi.gov
X-WR-CALDESC:Events for Town of Wilson
REFRESH-INTERVAL;VALUE=DURATION:PT1H
X-Robots-Tag:noindex
X-PUBLISHED-TTL:PT1H
BEGIN:VTIMEZONE
TZID:America/Chicago
BEGIN:DAYLIGHT
TZOFFSETFROM:-0600
TZOFFSETTO:-0500
TZNAME:CDT
DTSTART:20210314T080000
END:DAYLIGHT
BEGIN:STANDARD
TZOFFSETFROM:-0500
TZOFFSETTO:-0600
TZNAME:CST
DTSTART:20211107T070000
END:STANDARD
BEGIN:DAYLIGHT
TZOFFSETFROM:-0600
TZOFFSETTO:-0500
TZNAME:CDT
DTSTART:20220313T080000
END:DAYLIGHT
BEGIN:STANDARD
TZOFFSETFROM:-0500
TZOFFSETTO:-0600
TZNAME:CST
DTSTART:20221106T070000
END:STANDARD
BEGIN:DAYLIGHT
TZOFFSETFROM:-0600
TZOFFSETTO:-0500
TZNAME:CDT
DTSTART:20230312T080000
END:DAYLIGHT
BEGIN:STANDARD
TZOFFSETFROM:-0500
TZOFFSETTO:-0600
TZNAME:CST
DTSTART:20231105T070000
END:STANDARD
END:VTIMEZONE
BEGIN:VEVENT
DTSTART;TZID=America/Chicago:20220512T160000
DTEND;TZID=America/Chicago:20220512T163000
DTSTAMP:20260424T223400
CREATED:20220511T215144Z
LAST-MODIFIED:20220511T215144Z
UID:10000081-1652371200-1652373000@wilson-lincoln-wi.gov
SUMMARY:Emergency Town Board Meeting
DESCRIPTION:Emergency Town Board Meeting to be held to discuss the repair of Zenith Tower Road that was washed away in last months storm.  Also to discuss dates for Board of Review.
URL:https://wilson-lincoln-wi.gov/event/emergency-town-board-meeting/
CATEGORIES:Town Board
END:VEVENT
END:VCALENDAR