BEGIN:VCALENDAR
VERSION:2.0
PRODID:-//Town of Wilson - ECPv6.15.17.1//NONSGML v1.0//EN
CALSCALE:GREGORIAN
METHOD:PUBLISH
X-ORIGINAL-URL:https://wilson-lincoln-wi.gov
X-WR-CALDESC:Events for Town of Wilson
REFRESH-INTERVAL;VALUE=DURATION:PT1H
X-Robots-Tag:noindex
X-PUBLISHED-TTL:PT1H
BEGIN:VTIMEZONE
TZID:America/Chicago
BEGIN:DAYLIGHT
TZOFFSETFROM:-0600
TZOFFSETTO:-0500
TZNAME:CDT
DTSTART:20220313T080000
END:DAYLIGHT
BEGIN:STANDARD
TZOFFSETFROM:-0500
TZOFFSETTO:-0600
TZNAME:CST
DTSTART:20221106T070000
END:STANDARD
BEGIN:DAYLIGHT
TZOFFSETFROM:-0600
TZOFFSETTO:-0500
TZNAME:CDT
DTSTART:20230312T080000
END:DAYLIGHT
BEGIN:STANDARD
TZOFFSETFROM:-0500
TZOFFSETTO:-0600
TZNAME:CST
DTSTART:20231105T070000
END:STANDARD
BEGIN:DAYLIGHT
TZOFFSETFROM:-0600
TZOFFSETTO:-0500
TZNAME:CDT
DTSTART:20240310T080000
END:DAYLIGHT
BEGIN:STANDARD
TZOFFSETFROM:-0500
TZOFFSETTO:-0600
TZNAME:CST
DTSTART:20241103T070000
END:STANDARD
END:VTIMEZONE
BEGIN:VEVENT
DTSTART;TZID=America/Chicago:20230331T090000
DTEND;TZID=America/Chicago:20230331T130000
DTSTAMP:20260422T122618
CREATED:20230317T141931Z
LAST-MODIFIED:20230317T143306Z
UID:10000002-1680253200-1680267600@wilson-lincoln-wi.gov
SUMMARY:Machine Testing
DESCRIPTION:The Town of Wilson Election Staff will be at the Wilson Town Hall on Friday March 24\, 2023 at 9 am to conduct the testing of the voting machines for the upcoming Spring Election.  Election will be held on April 4\, 2023. \nThe public is welcome to watch us test the machine and take part in the set up of the hall in preparation of the election. \n 
URL:https://wilson-lincoln-wi.gov/event/machine-testing-2/
CATEGORIES:Election
ATTACH;FMTTYPE=image/jpeg:https://wilson-lincoln-wi.gov/wp-content/uploads/2023/03/voting-machine-testing-1.jpg
END:VEVENT
END:VCALENDAR